0.04085914497656
-0.08019058717695
-0.08019058717695
-0.04085914497656
679454.34913804021000
244616.91943275646000
