0.03660629787682
-0.08221909118783
-0.08221909118783
-0.03660629787682
679232.03536673740000
245140.49062667167000
