0.03660629787682
-0.08221909118783
-0.08221909118783
-0.03660629787682
678430.03536673740000
246783.49062667167000
