0.03945340321102
-0.08089146416693
-0.08089146416693
-0.03945340321102
677450.36243000347000
248746.45744744982000
