-0.03945340321102
0.08089146416693
0.08089146416693
0.03945340321102
681790.63756999653000
233350.54255255018000
