-0.03945340321102
0.08089146416693
0.08089146416693
0.03945340321102
679556.63756999653000
237937.54255255018000
