-0.03945340321102
0.08089146416693
0.08089146416693
0.03945340321102
678706.63756999653000
239711.54255255018000
