-0.03945340321102
0.08089146416693
0.08089146416693
0.03945340321102
676401.63756999653000
244446.54255255018000
