-0.03945340321102
0.08089146416693
0.08089146416693
0.03945340321102
674373.63756999653000
248625.54255255018000
