-0.03945340321102
0.08089146416693
0.08089146416693
0.03945340321102
672952.63756999653000
251558.54255255018000
