-0.03945340321102
0.08089146416693
0.08089146416693
0.03945340321102
679700.63756999653000
235064.54255255018000
