-0.03945340321102
0.08089146416693
0.08089146416693
0.03945340321102
677557.63756999653000
239476.54255255018000
