0.03945340321102
-0.08089146416693
-0.08089146416693
-0.03945340321102
675001.36243000347000
248593.45744744982000
