0.03945340321102
-0.08089146416693
-0.08089146416693
-0.03945340321102
673532.36243000347000
251616.45744744982000
