0.03945340321102
-0.08089146416693
-0.08089146416693
-0.03945340321102
672685.36243000347000
253376.45744744982000
