-0.03945340321102
0.08089146416693
0.08089146416693
0.03945340321102
681331.63756999653000
229114.54255255018000
