-0.03945340321102
0.08089146416693
0.08089146416693
0.03945340321102
680728.63756999653000
230368.54255255018000
