-0.03945340321102
0.08089146416693
0.08089146416693
0.03945340321102
673426.63756999653000
245370.54255255018000
