-0.03945340321102
0.08089146416693
0.08089146416693
0.03945340321102
671612.63756999653000
249105.54255255018000
