-0.03945340321102
0.08089146416693
0.08089146416693
0.03945340321102
672154.63756999653000
245375.54255255018000
