0.03803564355666
-0.08156770083330
-0.08156770083330
-0.03803564355666
679162.25985988579000
232253.64715392774000
