0.04085914497656
-0.08019058717695
-0.08019058717695
-0.04085914497656
678854.34913804021000
232823.91943275646000
