0.04225244065073
-0.07946528335730
-0.07946528335730
-0.04225244065073
678304.22608023882000
233896.03114146439000
