0.03803564355666
-0.08156770083330
-0.08156770083330
-0.03803564355666
676483.25985988579000
237767.64715392774000
