-0.03945340321102
0.08089146416693
0.08089146416693
0.03945340321102
673515.63756999653000
237412.54255255018000
