-0.03945340321102
0.08089146416693
0.08089146416693
0.03945340321102
674012.63756999653000
233794.54255255018000
