0.04085914497656
-0.08019058717695
-0.08019058717695
-0.04085914497656
674197.34913804021000
237268.91943275646000
