0.03945340321102
-0.08089146416693
-0.08089146416693
-0.03945340321102
673982.36243000347000
237738.45744744982000
