0.03945340321102
-0.08089146416693
-0.08089146416693
-0.03945340321102
673728.36243000347000
238257.45744744982000
