-0.03945340321102
0.08089146416693
0.08089146416693
0.03945340321102
674451.63756999653000
230290.54255255018000
