0.09000000000000
-0.00000000000000
-0.00000000000000
-0.09000000000000
701608.18080327450000
233386.69702596046000
