0.09000000000000
-0.00000000000000
-0.00000000000000
-0.09000000000000
700947.18080327450000
233397.69702596046000
