0.09000000000000
-0.00000000000000
-0.00000000000000
-0.09000000000000
698109.18080327450000
233430.69702596046000
