-0.04225244065073
0.07946528335730
0.07946528335730
0.04225244065073
698208.38775320980000
253917.33078557512000
