0.04225244065073
-0.07946528335730
-0.07946528335730
-0.04225244065073
697860.33501347993000
256377.14159983280000
