0.04225244065073
-0.07946528335730
-0.07946528335730
-0.04225244065073
697568.33501347993000
256915.14159983280000
