-0.04225244065073
0.07946528335730
0.07946528335730
0.04225244065073
699872.84980872693000
246166.87680989524000
