-0.04225244065073
0.07946528335730
0.07946528335730
0.04225244065073
694225.84980872693000
256649.87680989524000
