-0.04225244065073
0.07946528335730
0.07946528335730
0.04225244065073
693643.84980872693000
257745.87680989524000
