0.04225244065073
-0.07946528335730
-0.07946528335730
-0.04225244065073
705889.15019127307000
236447.12319010476000
