0.04225244065073
-0.07946528335730
-0.07946528335730
-0.04225244065073
703012.15019127307000
241816.12319010476000
