0.04225244065073
-0.07946528335730
-0.07946528335730
-0.04225244065073
702688.15019127307000
242432.12319010476000
