0.04225244065073
-0.07946528335730
-0.07946528335730
-0.04225244065073
700329.15019127307000
246867.12319010476000
