0.04225244065073
-0.07946528335730
-0.07946528335730
-0.04225244065073
697440.15019127307000
252243.12319010476000
