0.04225244065073
-0.07946528335730
-0.07946528335730
-0.04225244065073
695005.15019127307000
256808.12319010476000
