0.04225244065073
-0.07946528335730
-0.07946528335730
-0.04225244065073
694395.15019127307000
257916.12319010476000
