-0.04225244065073
0.07946528335730
0.07946528335730
0.04225244065073
704624.84980872693000
232601.87680989524000
