-0.04225244065073
0.07946528335730
0.07946528335730
0.04225244065073
703023.84980872693000
235598.87680989524000
