-0.04225244065073
0.07946528335730
0.07946528335730
0.04225244065073
701197.84980872693000
239018.87680989524000
