-0.04225244065073
0.07946528335730
0.07946528335730
0.04225244065073
700820.84980872693000
239699.87680989524000
